BEGIN:VCALENDAR
VERSION:2.0
PRODID:icalendar-ruby
CALSCALE:GREGORIAN
METHOD:PUBLISH
BEGIN:VEVENT
DTSTAMP:20260420T110806Z
UID:142-48316@citylightvictoria.ca
DTSTART:20260614T173000Z
DTEND:20260614T190000Z
CLASS:PUBLIC
CREATED:20260417T175235
DESCRIPTION:
LAST-MODIFIED:20260417T175235
LOCATION:
SUMMARY:Sunday Service
URL;VALUE=URI:https://www.citylightvictoria.ca/events/sunday-service--142/2
 026-06-14
ATTACH;FILENAME=churchforfbcover.jpg;FMTTYPE=image/jpeg:https://dq5pwpg1q8r
 u0.cloudfront.net/2026/04/18/00/52/34/cb1fa560-de47-4a2e-853f-d37e5500c422
 /churchforfbcover.jpg
END:VEVENT
END:VCALENDAR
