BEGIN:VCALENDAR
VERSION:2.0
PRODID:icalendar-ruby
CALSCALE:GREGORIAN
METHOD:PUBLISH
BEGIN:VEVENT
DTSTAMP:20260422T100018Z
UID:141-48315@citylightvictoria.ca
DTSTART:20260531T173000Z
DTEND:20260531T190000Z
CLASS:PUBLIC
CREATED:20260417T175020
DESCRIPTION:
LAST-MODIFIED:20260417T175020
LOCATION:
SUMMARY:Sunday Service
URL;VALUE=URI:https://www.citylightvictoria.ca/events/sunday-service--141/2
 026-05-31
ATTACH;FILENAME=mission to uganda.png;FMTTYPE=image/png:https://dq5pwpg1q8r
 u0.cloudfront.net/2026/04/18/00/50/20/f2bff284-201a-45b0-9cfc-4c911df20ef5
 /mission%20to%20uganda.png
END:VEVENT
END:VCALENDAR
