BEGIN:VCALENDAR
VERSION:2.0
PRODID:icalendar-ruby
CALSCALE:GREGORIAN
METHOD:PUBLISH
BEGIN:VEVENT
DTSTAMP:20260420T104203Z
UID:138-48312@citylightvictoria.ca
DTSTART:20260524T173000Z
DTEND:20260524T190000Z
CLASS:PUBLIC
CREATED:20260417T173904
DESCRIPTION:
LAST-MODIFIED:20260417T173904
LOCATION:
SUMMARY:Sunday Service
URL;VALUE=URI:https://www.citylightvictoria.ca/events/sunday-service--138/2
 026-05-24
ATTACH;FILENAME=Pentecost sunday.png;FMTTYPE=image/png:https://dq5pwpg1q8ru
 0.cloudfront.net/2026/04/18/00/39/04/2337ef1b-b309-4f9b-80d0-e1956710b339/
 Pentecost%20sunday.png
END:VEVENT
END:VCALENDAR
