BEGIN:VCALENDAR
VERSION:2.0
PRODID:icalendar-ruby
CALSCALE:GREGORIAN
METHOD:PUBLISH
BEGIN:VEVENT
DTSTAMP:20260420T105637Z
UID:140-48314@citylightvictoria.ca
DTSTART:20260531T010000Z
DTEND:20260531T040000Z
CLASS:PUBLIC
CREATED:20260417T174630
DESCRIPTION:Connect with Juanita King for details
LAST-MODIFIED:20260417T174630
LOCATION:
SUMMARY:Guess Who's Coming To Dinner
URL;VALUE=URI:https://www.citylightvictoria.ca/events/guess-whos-coming-to-
 dinner/2026-05-30
ATTACH;FILENAME=guess who dinner.png;FMTTYPE=image/png:https://dq5pwpg1q8ru
 0.cloudfront.net/2026/04/18/00/46/29/cf5ccd19-6310-4ced-b166-2d242c238f75/
 guess%20who%20dinner.png
END:VEVENT
END:VCALENDAR
